Package: Organism.dplyr Version: 1.35.0 Command: /home/biocbuild/R/R/bin/R CMD check --install=check:Organism.dplyr.install-out.txt --library=/home/biocbuild/R/R/site-library --no-vignettes --timings Organism.dplyr_1.35.0.tar.gz StartedAt: 2025-01-28 13:35:46 -0000 (Tue, 28 Jan 2025) EndedAt: 2025-01-28 13:48:31 -0000 (Tue, 28 Jan 2025) EllapsedTime: 765.4 seconds RetCode: 0 Status: OK CheckDir: Organism.dplyr.Rcheck Warnings: 0