Package: Organism.dplyr Version: 1.35.0 Command: /home/biocbuild/R/R/bin/R CMD INSTALL Organism.dplyr StartedAt: 2025-01-29 19:51:16 -0000 (Wed, 29 Jan 2025) EndedAt: 2025-01-29 19:52:08 -0000 (Wed, 29 Jan 2025) EllapsedTime: 52.4 seconds RetCode: 0 Status: OK