Package: Organism.dplyr Version: 1.35.0 Command: rm -rf Organism.dplyr.buildbin-libdir && mkdir Organism.dplyr.buildbin-libdir && /Users/biocbuild/BBS/utils/build-universal.sh Organism.dplyr_1.35.0.tar.gz /Library/Frameworks/R.framework/Resources/bin/R Organism.dplyr.buildbin-libdir StartedAt: 2025-02-10 01:07:10 -0500 (Mon, 10 Feb 2025) EndedAt: 2025-02-10 01:08:05 -0500 (Mon, 10 Feb 2025) EllapsedTime: 55.4 seconds RetCode: 0 Status: OK PackageFile: Organism.dplyr_1.35.0.tgz PackageFileSize: 888.2 KiB