Package: Organism.dplyr Version: 1.35.0 Command: /Library/Frameworks/R.framework/Resources/bin/R CMD check --install=check:Organism.dplyr.install-out.txt --library=/Library/Frameworks/R.framework/Resources/library --no-vignettes --timings Organism.dplyr_1.35.0.tar.gz StartedAt: 2025-02-04 22:12:08 -0500 (Tue, 04 Feb 2025) EndedAt: 2025-02-04 22:21:55 -0500 (Tue, 04 Feb 2025) EllapsedTime: 586.8 seconds RetCode: 0 Status: OK CheckDir: Organism.dplyr.Rcheck Warnings: 0