Package: Organism.dplyr Version: 1.35.0 Command: /home/biocbuild/bbs-3.21-bioc/R/bin/R CMD build --keep-empty-dirs --no-resave-data Organism.dplyr StartedAt: 2025-02-09 18:30:58 -0500 (Sun, 09 Feb 2025) EndedAt: 2025-02-09 18:32:25 -0500 (Sun, 09 Feb 2025) EllapsedTime: 87.1 seconds RetCode: 0 Status: OK PackageFile: Organism.dplyr_1.35.0.tar.gz PackageFileSize: 575.5 KiB