Package: Organism.dplyr Version: 1.35.0 Command: /home/biocbuild/bbs-3.21-bioc/R/bin/R CMD INSTALL Organism.dplyr StartedAt: 2025-02-12 15:38:38 -0500 (Wed, 12 Feb 2025) EndedAt: 2025-02-12 15:39:17 -0500 (Wed, 12 Feb 2025) EllapsedTime: 39.3 seconds RetCode: 0 Status: OK