Package: Organism.dplyr Version: 1.35.0 Command: chmod a+r Organism.dplyr -R && E:\biocbuild\bbs-3.21-bioc\R\bin\R.exe CMD build --keep-empty-dirs --no-resave-data Organism.dplyr StartedAt: 2025-02-09 20:28:54 -0500 (Sun, 09 Feb 2025) EndedAt: 2025-02-09 20:30:38 -0500 (Sun, 09 Feb 2025) EllapsedTime: 104.1 seconds RetCode: 0 Status: OK PackageFile: Organism.dplyr_1.35.0.tar.gz PackageFileSize: 511.5 KiB