Package: OrganismDbi Version: 1.49.0 Command: /Library/Frameworks/R.framework/Resources/bin/R CMD check --install=check:OrganismDbi.install-out.txt --library=/Library/Frameworks/R.framework/Resources/library --no-vignettes --timings OrganismDbi_1.49.0.tar.gz StartedAt: 2025-02-09 20:31:50 -0500 (Sun, 09 Feb 2025) EndedAt: 2025-02-09 20:35:37 -0500 (Sun, 09 Feb 2025) EllapsedTime: 226.6 seconds RetCode: 1 Status: ERROR CheckDir: OrganismDbi.Rcheck Warnings: NA