Package: OrganismDbi Version: 1.49.0 Command: /home/biocbuild/R/R/bin/R CMD check --install=check:OrganismDbi.install-out.txt --library=/home/biocbuild/R/R/site-library --no-vignettes --timings OrganismDbi_1.49.0.tar.gz StartedAt: 2025-01-28 13:36:46 -0000 (Tue, 28 Jan 2025) EndedAt: 2025-01-28 13:52:18 -0000 (Tue, 28 Jan 2025) EllapsedTime: 932.6 seconds RetCode: 0 Status: WARNINGS CheckDir: OrganismDbi.Rcheck Warnings: 5