Package: OrganismDbi Version: 1.49.0 Command: /home/biocbuild/R/R/bin/R CMD INSTALL OrganismDbi StartedAt: 2025-01-29 20:02:59 -0000 (Wed, 29 Jan 2025) EndedAt: 2025-01-29 20:03:55 -0000 (Wed, 29 Jan 2025) EllapsedTime: 55.4 seconds RetCode: 0 Status: OK