Package: OrganismDbi Version: 1.49.0 Command: /Library/Frameworks/R.framework/Resources/bin/R CMD build --keep-empty-dirs --no-resave-data OrganismDbi StartedAt: 2025-02-04 17:43:18 -0500 (Tue, 04 Feb 2025) EndedAt: 2025-02-04 17:44:50 -0500 (Tue, 04 Feb 2025) EllapsedTime: 91.6 seconds RetCode: 0 Status: OK PackageFile: OrganismDbi_1.49.0.tar.gz PackageFileSize: 387.3 KiB