Package: OrganismDbi Version: 1.49.0 Command: /home/biocbuild/bbs-3.21-bioc/R/bin/R CMD check --install=check:OrganismDbi.install-out.txt --library=/home/biocbuild/bbs-3.21-bioc/R/site-library --timings OrganismDbi_1.49.0.tar.gz StartedAt: 2025-02-05 01:07:30 -0500 (Wed, 05 Feb 2025) EndedAt: 2025-02-05 01:21:20 -0500 (Wed, 05 Feb 2025) EllapsedTime: 830.6 seconds RetCode: 0 Status: OK CheckDir: OrganismDbi.Rcheck Warnings: 0