Package: OrganismDbi Version: 1.49.0 Command: /home/biocbuild/bbs-3.21-bioc/R/bin/R CMD INSTALL OrganismDbi StartedAt: 2025-02-04 15:37:22 -0500 (Tue, 04 Feb 2025) EndedAt: 2025-02-04 15:38:02 -0500 (Tue, 04 Feb 2025) EllapsedTime: 40.9 seconds RetCode: 0 Status: OK