Package: OrganismDbi Version: 1.49.0 Command: rm -rf OrganismDbi.buildbin-libdir && mkdir OrganismDbi.buildbin-libdir && E:\biocbuild\bbs-3.21-bioc\R\bin\R.exe CMD INSTALL --build --library=OrganismDbi.buildbin-libdir OrganismDbi_1.49.0.tar.gz StartedAt: 2025-02-05 08:32:02 -0500 (Wed, 05 Feb 2025) EndedAt: 2025-02-05 08:33:49 -0500 (Wed, 05 Feb 2025) EllapsedTime: 106.9 seconds RetCode: 0 Status: OK PackageFile: OrganismDbi_1.49.0.zip PackageFileSize: 783.3 KiB