Package: OrganismDbi Version: 1.49.0 Command: E:\biocbuild\bbs-3.21-bioc\R\bin\R.exe CMD INSTALL OrganismDbi StartedAt: 2025-02-04 16:04:48 -0500 (Tue, 04 Feb 2025) EndedAt: 2025-02-04 16:06:11 -0500 (Tue, 04 Feb 2025) EllapsedTime: 82.9 seconds RetCode: 0 Status: OK