Package: Oscope Version: 1.37.0 Command: rm -rf Oscope.buildbin-libdir && mkdir Oscope.buildbin-libdir && /Users/biocbuild/BBS/utils/build-universal.sh Oscope_1.37.0.tar.gz /Library/Frameworks/R.framework/Resources/bin/R Oscope.buildbin-libdir StartedAt: 2025-02-04 22:26:19 -0500 (Tue, 04 Feb 2025) EndedAt: 2025-02-04 22:26:23 -0500 (Tue, 04 Feb 2025) EllapsedTime: 4.1 seconds RetCode: 0 Status: OK PackageFile: Oscope_1.37.0.tgz PackageFileSize: 851.4 KiB