Package: Oscope Version: 1.37.0 Command: /Library/Frameworks/R.framework/Resources/bin/R CMD check --install=check:Oscope.install-out.txt --library=/Library/Frameworks/R.framework/Resources/library --no-vignettes --timings Oscope_1.37.0.tar.gz StartedAt: 2025-02-09 20:32:31 -0500 (Sun, 09 Feb 2025) EndedAt: 2025-02-09 20:33:01 -0500 (Sun, 09 Feb 2025) EllapsedTime: 29.4 seconds RetCode: 0 Status: OK CheckDir: Oscope.Rcheck Warnings: 0