Package: Oscope Version: 1.37.0 Command: /Library/Frameworks/R.framework/Resources/bin/R CMD INSTALL Oscope StartedAt: 2025-02-04 15:19:02 -0500 (Tue, 04 Feb 2025) EndedAt: 2025-02-04 15:19:05 -0500 (Tue, 04 Feb 2025) EllapsedTime: 2.8 seconds RetCode: 0 Status: OK