Package: Oscope Version: 1.37.0 Command: /home/biocbuild/R/R/bin/R CMD check --install=check:Oscope.install-out.txt --library=/home/biocbuild/R/R/site-library --no-vignettes --timings Oscope_1.37.0.tar.gz StartedAt: 2025-01-28 13:37:33 -0000 (Tue, 28 Jan 2025) EndedAt: 2025-01-28 13:39:43 -0000 (Tue, 28 Jan 2025) EllapsedTime: 130.5 seconds RetCode: 0 Status: OK CheckDir: Oscope.Rcheck Warnings: 0