Package: Oscope Version: 1.37.0 Command: rm -rf Oscope.buildbin-libdir && mkdir Oscope.buildbin-libdir && /Users/biocbuild/BBS/utils/build-universal.sh Oscope_1.37.0.tar.gz /Library/Frameworks/R.framework/Resources/bin/R Oscope.buildbin-libdir StartedAt: 2025-02-13 00:49:55 -0500 (Thu, 13 Feb 2025) EndedAt: 2025-02-13 00:50:07 -0500 (Thu, 13 Feb 2025) EllapsedTime: 11.7 seconds RetCode: 0 Status: OK PackageFile: Oscope_1.37.0.tgz PackageFileSize: 850.1 KiB