Package: Oscope Version: 1.37.0 Command: /home/biocbuild/bbs-3.21-bioc/R/bin/R CMD check --install=check:Oscope.install-out.txt --library=/home/biocbuild/bbs-3.21-bioc/R/site-library --timings Oscope_1.37.0.tar.gz StartedAt: 2025-02-05 01:08:34 -0500 (Wed, 05 Feb 2025) EndedAt: 2025-02-05 01:12:39 -0500 (Wed, 05 Feb 2025) EllapsedTime: 245.5 seconds RetCode: 0 Status: OK CheckDir: Oscope.Rcheck Warnings: 0