Package: Oscope Version: 1.37.0 Command: /home/biocbuild/bbs-3.21-bioc/R/bin/R CMD INSTALL Oscope StartedAt: 2025-02-04 15:09:36 -0500 (Tue, 04 Feb 2025) EndedAt: 2025-02-04 15:09:50 -0500 (Tue, 04 Feb 2025) EllapsedTime: 14.9 seconds RetCode: 0 Status: OK