Package: Oscope Version: 1.37.0 Command: chmod a+r Oscope -R && E:\biocbuild\bbs-3.21-bioc\R\bin\R.exe CMD build --keep-empty-dirs --no-resave-data Oscope StartedAt: 2025-02-04 20:33:15 -0500 (Tue, 04 Feb 2025) EndedAt: 2025-02-04 20:35:18 -0500 (Tue, 04 Feb 2025) EllapsedTime: 122.3 seconds RetCode: 0 Status: OK PackageFile: Oscope_1.37.0.tar.gz PackageFileSize: 1.162 MiB