Package: Oscope Version: 1.37.0 Command: E:\biocbuild\bbs-3.21-bioc\R\bin\R.exe CMD check --no-multiarch --install=check:Oscope.install-out.txt --library=E:\biocbuild\bbs-3.21-bioc\R\library --no-vignettes --timings Oscope_1.37.0.tar.gz StartedAt: 2025-02-10 03:50:35 -0500 (Mon, 10 Feb 2025) EndedAt: 2025-02-10 03:52:11 -0500 (Mon, 10 Feb 2025) EllapsedTime: 96.0 seconds RetCode: 0 Status: OK CheckDir: Oscope.Rcheck Warnings: 0