Package: Oscope Version: 1.37.0 Command: E:\biocbuild\bbs-3.21-bioc\R\bin\R.exe CMD INSTALL Oscope StartedAt: 2025-02-04 16:23:46 -0500 (Tue, 04 Feb 2025) EndedAt: 2025-02-04 16:24:01 -0500 (Tue, 04 Feb 2025) EllapsedTime: 15.4 seconds RetCode: 0 Status: OK