Package: OutSplice Version: 1.7.1 Maintainer: Theresa Guo MaintainerEmail: twguo at health.ucsd.edu git_url: https://git.bioconductor.org/packages/OutSplice git_branch: devel git_last_commit: 683cfbe git_last_commit_date: 2025-02-04 15:58:13 -0500 (Tue, 04 Feb 2025)