Package: OutSplice Version: 1.7.1 Command: rm -rf OutSplice.buildbin-libdir && mkdir OutSplice.buildbin-libdir && /Users/biocbuild/BBS/utils/build-universal.sh OutSplice_1.7.1.tar.gz /Library/Frameworks/R.framework/Resources/bin/R OutSplice.buildbin-libdir StartedAt: 2025-02-09 22:24:32 -0500 (Sun, 09 Feb 2025) EndedAt: 2025-02-09 22:24:48 -0500 (Sun, 09 Feb 2025) EllapsedTime: 15.3 seconds RetCode: 0 Status: OK PackageFile: OutSplice_1.7.1.tgz PackageFileSize: 3.905 MiB