Package: OutSplice Version: 1.7.1 Command: /Library/Frameworks/R.framework/Resources/bin/R CMD build --keep-empty-dirs --no-resave-data OutSplice StartedAt: 2025-02-09 17:11:22 -0500 (Sun, 09 Feb 2025) EndedAt: 2025-02-09 17:11:55 -0500 (Sun, 09 Feb 2025) EllapsedTime: 32.3 seconds RetCode: 0 Status: OK PackageFile: OutSplice_1.7.1.tar.gz PackageFileSize: 3.863 MiB