Package: OutSplice Version: 1.7.1 Command: /Library/Frameworks/R.framework/Resources/bin/R CMD INSTALL OutSplice StartedAt: 2025-02-09 15:10:14 -0500 (Sun, 09 Feb 2025) EndedAt: 2025-02-09 15:10:28 -0500 (Sun, 09 Feb 2025) EllapsedTime: 13.7 seconds RetCode: 0 Status: OK