Package: OutSplice Version: 1.7.1 Command: rm -rf OutSplice.buildbin-libdir && mkdir OutSplice.buildbin-libdir && /Users/biocbuild/BBS/utils/build-universal.sh OutSplice_1.7.1.tar.gz /Library/Frameworks/R.framework/Resources/bin/R OutSplice.buildbin-libdir StartedAt: 2025-02-10 01:07:17 -0500 (Mon, 10 Feb 2025) EndedAt: 2025-02-10 01:08:06 -0500 (Mon, 10 Feb 2025) EllapsedTime: 49.6 seconds RetCode: 0 Status: OK PackageFile: OutSplice_1.7.1.tgz PackageFileSize: 3.904 MiB