Package: OutSplice Version: 1.7.1 Command: /Library/Frameworks/R.framework/Resources/bin/R CMD build --keep-empty-dirs --no-resave-data OutSplice StartedAt: 2025-02-12 17:43:51 -0500 (Wed, 12 Feb 2025) EndedAt: 2025-02-12 17:46:39 -0500 (Wed, 12 Feb 2025) EllapsedTime: 167.9 seconds RetCode: 0 Status: OK PackageFile: OutSplice_1.7.1.tar.gz PackageFileSize: 3.863 MiB