Package: OutSplice Version: 1.7.1 Command: chmod a+r OutSplice -R && E:\biocbuild\bbs-3.21-bioc\R\bin\R.exe CMD build --keep-empty-dirs --no-resave-data OutSplice StartedAt: 2025-02-09 20:31:46 -0500 (Sun, 09 Feb 2025) EndedAt: 2025-02-09 20:33:05 -0500 (Sun, 09 Feb 2025) EllapsedTime: 79.0 seconds RetCode: 0 Status: OK PackageFile: OutSplice_1.7.1.tar.gz PackageFileSize: 3.863 MiB