Package: OutSplice Version: 1.7.1 Command: E:\biocbuild\bbs-3.21-bioc\R\bin\R.exe CMD INSTALL OutSplice StartedAt: 2025-02-09 16:48:12 -0500 (Sun, 09 Feb 2025) EndedAt: 2025-02-09 16:48:54 -0500 (Sun, 09 Feb 2025) EllapsedTime: 42.4 seconds RetCode: 0 Status: OK