Package: PAA Version: 1.41.0 Command: /Library/Frameworks/R.framework/Resources/bin/R CMD build --keep-empty-dirs --no-resave-data PAA StartedAt: 2025-02-09 17:11:30 -0500 (Sun, 09 Feb 2025) EndedAt: 2025-02-09 17:12:15 -0500 (Sun, 09 Feb 2025) EllapsedTime: 44.4 seconds RetCode: 0 Status: OK PackageFile: PAA_1.41.0.tar.gz PackageFileSize: 3.743 MiB