Package: PAA Version: 1.41.0 Command: /Library/Frameworks/R.framework/Resources/bin/R CMD check --install=check:PAA.install-out.txt --library=/Library/Frameworks/R.framework/Resources/library --no-vignettes --timings PAA_1.41.0.tar.gz StartedAt: 2025-02-09 20:32:59 -0500 (Sun, 09 Feb 2025) EndedAt: 2025-02-09 20:34:17 -0500 (Sun, 09 Feb 2025) EllapsedTime: 77.8 seconds RetCode: 0 Status: OK CheckDir: PAA.Rcheck Warnings: 0