Package: PAA Version: 1.41.0 Command: /Library/Frameworks/R.framework/Resources/bin/R CMD INSTALL PAA StartedAt: 2025-02-09 15:23:04 -0500 (Sun, 09 Feb 2025) EndedAt: 2025-02-09 15:23:18 -0500 (Sun, 09 Feb 2025) EllapsedTime: 13.5 seconds RetCode: 0 Status: OK