Package: PAA Version: 1.41.0 Command: /home/biocbuild/R/R/bin/R CMD build --keep-empty-dirs --no-resave-data PAA StartedAt: 2025-01-29 01:07:16 -0000 (Wed, 29 Jan 2025) EndedAt: 2025-01-29 01:10:08 -0000 (Wed, 29 Jan 2025) EllapsedTime: 172.2 seconds RetCode: 0 Status: OK PackageFile: PAA_1.41.0.tar.gz PackageFileSize: 3.973 MiB