Package: PAA Version: 1.41.0 Command: /home/biocbuild/bbs-3.21-bioc/R/bin/R CMD build --keep-empty-dirs --no-resave-data PAA StartedAt: 2025-02-03 18:41:35 -0500 (Mon, 03 Feb 2025) EndedAt: 2025-02-03 18:44:48 -0500 (Mon, 03 Feb 2025) EllapsedTime: 193.4 seconds RetCode: 0 Status: OK PackageFile: PAA_1.41.0.tar.gz PackageFileSize: 4.14 MiB