Package: PAA Version: 1.41.0 Command: /home/biocbuild/bbs-3.21-bioc/R/bin/R CMD check --install=check:PAA.install-out.txt --library=/home/biocbuild/bbs-3.21-bioc/R/site-library --timings PAA_1.41.0.tar.gz StartedAt: 2025-02-04 01:08:59 -0500 (Tue, 04 Feb 2025) EndedAt: 2025-02-04 01:16:20 -0500 (Tue, 04 Feb 2025) EllapsedTime: 441.7 seconds RetCode: 0 Status: OK CheckDir: PAA.Rcheck Warnings: 0