Package: PAA Version: 1.41.0 Command: rm -rf PAA.buildbin-libdir && mkdir PAA.buildbin-libdir && E:\biocbuild\bbs-3.21-bioc\R\bin\R.exe CMD INSTALL --build --library=PAA.buildbin-libdir PAA_1.41.0.tar.gz StartedAt: 2025-02-10 08:20:34 -0500 (Mon, 10 Feb 2025) EndedAt: 2025-02-10 08:21:25 -0500 (Mon, 10 Feb 2025) EllapsedTime: 51.2 seconds RetCode: 0 Status: OK PackageFile: PAA_1.41.0.zip PackageFileSize: 3.387 MiB