Package: PAA Version: 1.41.0 Command: chmod a+r PAA -R && E:\biocbuild\bbs-3.21-bioc\R\bin\R.exe CMD build --keep-empty-dirs --no-resave-data PAA StartedAt: 2025-02-09 20:32:00 -0500 (Sun, 09 Feb 2025) EndedAt: 2025-02-09 20:43:56 -0500 (Sun, 09 Feb 2025) EllapsedTime: 715.5 seconds RetCode: 0 Status: OK PackageFile: PAA_1.41.0.tar.gz PackageFileSize: 2.834 MiB