Package: PAA Version: 1.41.0 Command: E:\biocbuild\bbs-3.21-bioc\R\bin\R.exe CMD check --no-multiarch --install=check:PAA.install-out.txt --library=E:\biocbuild\bbs-3.21-bioc\R\library --no-vignettes --timings PAA_1.41.0.tar.gz StartedAt: 2025-02-10 03:51:27 -0500 (Mon, 10 Feb 2025) EndedAt: 2025-02-10 03:56:02 -0500 (Mon, 10 Feb 2025) EllapsedTime: 275.3 seconds RetCode: 0 Status: OK CheckDir: PAA.Rcheck Warnings: 0