Package: PAIRADISE Version: 1.23.0 Command: /Library/Frameworks/R.framework/Resources/bin/R CMD INSTALL PAIRADISE StartedAt: 2025-02-09 15:07:15 -0500 (Sun, 09 Feb 2025) EndedAt: 2025-02-09 15:07:23 -0500 (Sun, 09 Feb 2025) EllapsedTime: 8.6 seconds RetCode: 0 Status: OK