Package: PAIRADISE Version: 1.23.0 Command: /home/biocbuild/R/R/bin/R CMD build --keep-empty-dirs --no-resave-data PAIRADISE StartedAt: 2025-01-29 01:08:36 -0000 (Wed, 29 Jan 2025) EndedAt: 2025-01-29 01:09:19 -0000 (Wed, 29 Jan 2025) EllapsedTime: 43.0 seconds RetCode: 0 Status: OK PackageFile: PAIRADISE_1.23.0.tar.gz PackageFileSize: 386.1 KiB