Package: PAIRADISE Version: 1.23.0 Command: /home/biocbuild/R/R/bin/R CMD INSTALL PAIRADISE StartedAt: 2025-01-29 19:44:50 -0000 (Wed, 29 Jan 2025) EndedAt: 2025-01-29 19:45:17 -0000 (Wed, 29 Jan 2025) EllapsedTime: 27.8 seconds RetCode: 0 Status: OK