Package: PAIRADISE Version: 1.23.0 Command: /Library/Frameworks/R.framework/Resources/bin/R CMD INSTALL PAIRADISE StartedAt: 2025-02-04 15:13:18 -0500 (Tue, 04 Feb 2025) EndedAt: 2025-02-04 15:13:44 -0500 (Tue, 04 Feb 2025) EllapsedTime: 26.7 seconds RetCode: 0 Status: OK