Package: PAIRADISE Version: 1.23.0 Command: rm -rf PAIRADISE.buildbin-libdir && mkdir PAIRADISE.buildbin-libdir && E:\biocbuild\bbs-3.21-bioc\R\bin\R.exe CMD INSTALL --build --library=PAIRADISE.buildbin-libdir PAIRADISE_1.23.0.tar.gz StartedAt: 2025-02-10 08:20:44 -0500 (Mon, 10 Feb 2025) EndedAt: 2025-02-10 08:21:17 -0500 (Mon, 10 Feb 2025) EllapsedTime: 32.5 seconds RetCode: 0 Status: OK PackageFile: PAIRADISE_1.23.0.zip PackageFileSize: 384.5 KiB