Package: PAIRADISE Version: 1.23.0 Command: E:\biocbuild\bbs-3.21-bioc\R\bin\R.exe CMD INSTALL PAIRADISE StartedAt: 2025-02-12 16:02:48 -0500 (Wed, 12 Feb 2025) EndedAt: 2025-02-12 16:03:13 -0500 (Wed, 12 Feb 2025) EllapsedTime: 25.5 seconds RetCode: 0 Status: OK