Package: PANR Version: 1.53.0 Command: /Library/Frameworks/R.framework/Resources/bin/R CMD INSTALL PANR StartedAt: 2025-02-09 15:05:36 -0500 (Sun, 09 Feb 2025) EndedAt: 2025-02-09 15:05:39 -0500 (Sun, 09 Feb 2025) EllapsedTime: 3.2 seconds RetCode: 0 Status: OK