Package: PANR Version: 1.53.0 Command: rm -rf PANR.buildbin-libdir && mkdir PANR.buildbin-libdir && /Users/biocbuild/BBS/utils/build-universal.sh PANR_1.53.0.tar.gz /Library/Frameworks/R.framework/Resources/bin/R PANR.buildbin-libdir StartedAt: 2025-02-10 01:07:36 -0500 (Mon, 10 Feb 2025) EndedAt: 2025-02-10 01:07:49 -0500 (Mon, 10 Feb 2025) EllapsedTime: 12.8 seconds RetCode: 0 Status: OK PackageFile: PANR_1.53.0.tgz PackageFileSize: 2.136 MiB